BEGIN:VCALENDAR
VERSION:2.0
PRODID:-//Die Trageschule© Österreich und Schweiz - ECPv6.6.4//NONSGML v1.0//EN
CALSCALE:GREGORIAN
METHOD:PUBLISH
X-WR-CALNAME:Die Trageschule© Österreich und Schweiz
X-ORIGINAL-URL:https://www.trageschule.com
X-WR-CALDESC:Veranstaltungen für Die Trageschule© Österreich und Schweiz
REFRESH-INTERVAL;VALUE=DURATION:PT1H
X-Robots-Tag:noindex
X-PUBLISHED-TTL:PT1H
BEGIN:VTIMEZONE
TZID:Europe/Vienna
BEGIN:DAYLIGHT
TZOFFSETFROM:+0100
TZOFFSETTO:+0200
TZNAME:CEST
DTSTART:20260329T010000
END:DAYLIGHT
BEGIN:STANDARD
TZOFFSETFROM:+0200
TZOFFSETTO:+0100
TZNAME:CET
DTSTART:20261025T010000
END:STANDARD
END:VTIMEZONE
BEGIN:VEVENT
DTSTART;TZID=Europe/Vienna:20260126T200000
DTEND;TZID=Europe/Vienna:20261221T210000
DTSTAMP:20260421T105150
CREATED:20251201T054601Z
LAST-MODIFIED:20251204T152225Z
UID:7793-1769457600-1797886800@www.trageschule.com
SUMMARY:Spotlights ABONNEMENT 2026
DESCRIPTION:Auf vielfachen Wunsch wird es die Spotlights auch 2026 geben!\n\n\n\nIn knapp einstündigen Live-Online-Sessions nimmt Christina Jauk-Küberl Tragethemen einzeln unter die Lupe.\nAuch heuer werden wir nicht nur Tragehilfen beleuchten\, sondern den Rahmen wieder ein wenig weiter aufmachen.\nWir stellen euch Tragehilfen\, die Firmen und deren Geschichten vor\, erarbeiten die Tragen in all ihren Facetten mit euch und natürlich bleibt auch Raum für eure Fragen. Und auch den Herstellern selbst geben wir die Gelegenheit dabei zu sein und euch Rede und Antwort zu stehen\, wenn sie dies möchten.\nWir wenden uns aber auch anderen Produkten und Themen zu – lasst euch einfach überraschen.\n\n\n\nDie einzelnen Spotlights werden aufgezeichnet und so könnt ihr sie auch später wieder anschauen – zB vor einer Beratung oder wenn ihr live nicht dabei sein konntet.\n\n\n\nDie Spotlights bieten wir einzeln und als Abonnement an.\nMit einem gebuchten Abo habt ihr Zugriff auf alle Sessions\, es wird 2026 auf jeden Fall mindestens zehn Spotlights geben.\n\nBei einigen Terminen werden wir wieder die Hersteller selbst mit-einladen\, um euch so Einblicke in Produktion und Entwicklung zu geben.Die Termine der Spotlights könnten sich noch ändern – das kommt natürlich auch auf die Verfügbarkeit der Hersteller an. Mit der Möglichkeit auf die Aufzeichnungen der zoom-Sessions zuzugreifen\, versäumt ihr aber auch bei kurzfristigen Terminänderungen nichts. \nGeplant haben wir folgende Spotlight-Abende jeweils um 20 Uhr\n(Änderungen vorbehalten – etwa wenn was Cooles auf den Markt kommt\, das wir euch gleich zeigen möchten) \n\n26.1. Schmusewolke Luna neu\, Aurora & Fullbuckle\n23.2. Storchenwiege Fullbuckle & Wrapcon\n23.3. Hüfttrage von Ruckeli\n20.4.Tragen von Frühgeborenen – Refresher\n18.5. Buchhaltung & DSGVO\n29.6. Neues aus der Forschung\n28.9.\n19.10.\n23.11.\n21.12.\n\nMit der Buchung des Abonnements habt ihr \n\ndie Möglichkeit bei den Live-Online-Sessions aktiv dabei zu sein\, also auch Fragen zu stellen und euch einzubringen.\ndie Möglichkeit die Aufzeichnungen bis Ende März 2026 beliebig oft anzusehen.\neinen Preisvorteil gegenüber Einzelbuchungen.\nZugriff auf die Rabattcodes\, die uns einige Hersteller für Abonnentinnen und Abonnenten zusätzlich zu den üblichen Berater:innenkonditionen anbieten.\n\n\n 
URL:https://www.trageschule.com/event/spotlights-abonnement-2026/
LOCATION:ONLINE – Webinar
CATEGORIES:sonstiges
ORGANIZER;CN="Die Trageschule%C2%AE %C3%96sterreich und Schweiz":MAILTO:info@trageschule.com
END:VEVENT
END:VCALENDAR